BEGIN:VCALENDAR
VERSION:2.0
PRODID:-//pretix//Curious_Ticket_System//
BEGIN:VTIMEZONE
TZID:Europe/Berlin
BEGIN:STANDARD
DTSTART:20001029T040000
RRULE:FREQ=YEARLY;BYDAY=-1SU;BYMONTH=10
TZNAME:CET
TZOFFSETFROM:+0200
TZOFFSETTO:+0100
END:STANDARD
BEGIN:DAYLIGHT
DTSTART:20000326T030000
RRULE:FREQ=YEARLY;BYDAY=-1SU;BYMONTH=3
TZNAME:CEST
TZOFFSETFROM:+0100
TZOFFSETTO:+0200
END:DAYLIGHT
END:VTIMEZONE
BEGIN:VEVENT
UID:pretix-ccl-biopunk25-0@ticket.curious.bio
DTSTART;TZID=Europe/Berlin:20251206T110000
DTEND;TZID=Europe/Berlin:20251206T220000
DESCRIPTION:Tickets: https://ticket.curious.bio/biopunk25/\nOrganizer: Curi
 ous Community Labs e. V.
DTSTAMP:20260421T031900Z
LOCATION:Curious Community Labs e.V. Hamburg
SUMMARY:Biopunkz Meetup 25 - Your "do it yourself" Fungi Conference
END:VEVENT
END:VCALENDAR
