BEGIN:VCALENDAR
VERSION:2.0
PRODID:-//pretix//Curious_Ticket_System//
BEGIN:VTIMEZONE
TZID:Europe/Berlin
BEGIN:STANDARD
DTSTART:20001029T040000
RRULE:FREQ=YEARLY;BYDAY=-1SU;BYMONTH=10
TZNAME:CET
TZOFFSETFROM:+0200
TZOFFSETTO:+0100
END:STANDARD
BEGIN:DAYLIGHT
DTSTART:20000326T030000
RRULE:FREQ=YEARLY;BYDAY=-1SU;BYMONTH=3
TZNAME:CEST
TZOFFSETFROM:+0100
TZOFFSETTO:+0200
END:DAYLIGHT
END:VTIMEZONE
BEGIN:VEVENT
UID:pretix-ccl-plankton-cs-0@ticket.curious.bio
DTSTART;TZID=Europe/Berlin:20230704T180000
DTEND;TZID=Europe/Berlin:20230704T210000
DESCRIPTION:Tickets: https://ticket.curious.bio/plankton-cs/\nVeranstalter:
  Curious Community Labs e. V.
DTSTAMP:20260420T074421Z
LOCATION:Curious Community Labs e. V.\, Halle 4K\, Stockmeyerstraße 41\, 2
 0457 Hamburg
SUMMARY:Entdecke die faszinierende Welt des Planktons und werde Teil der B
 ürgerwissenschaft!
END:VEVENT
END:VCALENDAR
